BEGIN:VCALENDAR
PRODID:-//Det Danske Spejderkorps//NONSGML Gruppeweb//EN
VERSION:2.0
CALSCALE:GREGORIAN
X-PUBLISHED-TTL:PT1H
X-WR-CALNAME:Familiespejd
METHOD:PUBLISH
BEGIN:VEVENT
UID:gruppeweb.dk:3404:event:516
DTSTAMP:20260424T132414Z
LAST-MODIFIED:20250503T155442Z
SUMMARY:Spejdermøde fælles - Sidste møde inden sommerferie
DESCRIPTION:\n
URL:https://www.jyderupspejderne.dk/begivenhed/spejdermoede-faelles-sidste-
 moede-inden-sommerferie
DTSTART:20250625T153000Z
DTEND:20250625T170000Z
LOCATION:Skarridsø Gruppe\, Stokkebjergvej 54\, 4450 Jyderup
END:VEVENT
BEGIN:VEVENT
UID:gruppeweb.dk:3404:event:520
DTSTAMP:20260424T132414Z
LAST-MODIFIED:20250322T154116Z
SUMMARY:Trimdag - Alle
DESCRIPTION:\n
URL:https://www.jyderupspejderne.dk/begivenhed/trimdag-alle
DTSTART;VALUE=DATE:20250529
LOCATION:Skarridsø Gruppe\, Stokkebjergvej 54\, 4450 Jyderup
END:VEVENT
BEGIN:VEVENT
UID:gruppeweb.dk:3404:event:524
DTSTAMP:20260424T132414Z
LAST-MODIFIED:20250413T145840Z
SUMMARY:Arbejdsdag - ALLE
DESCRIPTION:Spejdergården \nVi starter dagen ud med morgenmad fra kl. 9.
  \nKl. 10 deler vi os op på de forskellige opgaver. Vi har på forhånd 
 lavet  \nen ønskeliste\, som vi vil fordele på dagen. Der vil ved frokos
 ttid blive  \ntid til lidt let frokost.\nEfter frokost fortsætter vi med 
 opgaverne\, og når så langt vi kan. \nTil aften hygger vi med fælles a
 ftensmad\, og hygge.\nHUSK man behøver ikke deltage hele dagen\, så man 
 kan komme som det passer  \nind på lørdagen.\nSkulle man have en bil med
  trailer\, må man meget gerne byde ind på kørsel  \ntil genbrugspladsen
 . Det vil også være en mulighed til efter  \narbejdsdagen. \nVi glæder
  os til at se jer.Arbejdsopgaver:\nListe er under udarbejdelse\n
URL:https://www.jyderupspejderne.dk/begivenhed/arbejdsdag-alle-0
DTSTART:20250426T070000Z
DTEND:20250426T170000Z
LOCATION:Skarridsø Gruppe\, Stokkebjergvej 54\, 4450 Jyderup
END:VEVENT
BEGIN:VEVENT
UID:gruppeweb.dk:3404:event:529
DTSTAMP:20260424T132414Z
LAST-MODIFIED:20250503T154025Z
SUMMARY:Oprykningsweekend
DESCRIPTION:Info tilkommer\n\n
URL:https://www.jyderupspejderne.dk/begivenhed/oprykningsweekend
DTSTART;VALUE=DATE:20250816
DTEND;VALUE=DATE:20250818
LOCATION:
END:VEVENT
BEGIN:VEVENT
UID:gruppeweb.dk:3404:event:561
DTSTAMP:20260424T132414Z
LAST-MODIFIED:20250805T174716Z
SUMMARY:Ren Natur
DESCRIPTION:\n
URL:https://www.jyderupspejderne.dk/begivenhed/ren-natur
DTSTART;VALUE=DATE:20250923
LOCATION:Skarridsø Gruppe\, Stokkebjergvej 54\, 4450 Jyderup
END:VEVENT
BEGIN:VEVENT
UID:gruppeweb.dk:3404:event:563
DTSTAMP:20260424T132414Z
LAST-MODIFIED:20250805T175603Z
SUMMARY:Mørkøv Kræmmermarked
DESCRIPTION:Vi passer toiletvogn - Mere info følger\n\n
URL:https://www.jyderupspejderne.dk/begivenhed/moerkoev-kraemmermarked
DTSTART;VALUE=DATE:20250926
DTEND;VALUE=DATE:20250929
LOCATION:
END:VEVENT
BEGIN:VEVENT
UID:gruppeweb.dk:3404:event:564
DTSTAMP:20260424T132414Z
LAST-MODIFIED:20250818T190859Z
SUMMARY:Arbejdsdag - ALLE
DESCRIPTION:\n
URL:https://www.jyderupspejderne.dk/begivenhed/arbejdsdag-alle-1
DTSTART;VALUE=DATE:20250906
LOCATION:Skarridsø Gruppe\, Stokkebjergvej 54\, 4450 Jyderup
END:VEVENT
BEGIN:VEVENT
UID:gruppeweb.dk:3404:event:615
DTSTAMP:20260424T132414Z
LAST-MODIFIED:20251022T185405Z
SUMMARY:ACAS møde Halloween
DESCRIPTION:Info følger\n\n
URL:https://www.jyderupspejderne.dk/begivenhed/acas-moede-halloween
DTSTART:20251029T163000Z
DTEND:20251029T183000Z
LOCATION:Skarridsø Gruppe\, Stokkebjergvej 54\, 4450 Jyderup
END:VEVENT
BEGIN:VEVENT
UID:gruppeweb.dk:3404:event:650
DTSTAMP:20260424T132414Z
LAST-MODIFIED:20250808T130327Z
SUMMARY:Fredslys Arrangement - Alle Grene
DESCRIPTION:\n
URL:https://www.jyderupspejderne.dk/begivenhed/fredslys-arrangement-alle-gr
 ene-0
DTSTART;VALUE=DATE:20251126
LOCATION:Skarridsø Gruppe\, Stokkebjergvej 54\, 4450 Jyderup
END:VEVENT
BEGIN:VEVENT
UID:gruppeweb.dk:3404:event:662
DTSTAMP:20260424T132414Z
LAST-MODIFIED:20251001T172533Z
SUMMARY:Halloween
DESCRIPTION:\n
URL:https://www.jyderupspejderne.dk/begivenhed/halloween
DTSTART:20251031T150000Z
DTEND:20251031T200000Z
LOCATION:Skarridsø Gruppe\, Stokkebjergvej 54\, 4450 Jyderup
END:VEVENT
BEGIN:VEVENT
UID:gruppeweb.dk:3404:event:683
DTSTAMP:20260424T132414Z
LAST-MODIFIED:20260107T184225Z
SUMMARY:Grupperådsmøde - Alle Forældre/ledere
DESCRIPTION:\n
URL:https://www.jyderupspejderne.dk/begivenhed/grupperaadsmoede-alle-forael
 dreledere
DTSTART:20260219T170000Z
DTEND:20260219T190000Z
LOCATION:Skarridsø Gruppe\, Stokkebjergvej 54\, 4450 Jyderup
END:VEVENT
BEGIN:VEVENT
UID:gruppeweb.dk:3404:event:684
DTSTAMP:20260424T132414Z
LAST-MODIFIED:20260317T211146Z
SUMMARY:Trimdag - ALLE GRENE
DESCRIPTION:\n
URL:https://www.jyderupspejderne.dk/begivenhed/trimdag-alle-grene
DTSTART;VALUE=DATE:20260525
LOCATION:
END:VEVENT
BEGIN:VEVENT
UID:gruppeweb.dk:3404:event:697
DTSTAMP:20260424T132414Z
LAST-MODIFIED:20260107T184228Z
SUMMARY:Vinterferie
DESCRIPTION:\n
URL:https://www.jyderupspejderne.dk/begivenhed/vinterferie
DTSTART;VALUE=DATE:20260209
DTEND;VALUE=DATE:20260216
LOCATION:Skarridsø Gruppe\, Stokkebjergvej 54\, 4450 Jyderup
END:VEVENT
BEGIN:VEVENT
UID:gruppeweb.dk:3404:event:719
DTSTAMP:20260424T132414Z
LAST-MODIFIED:20260121T094806Z
SUMMARY:Påskeferie
DESCRIPTION:\n
URL:https://www.jyderupspejderne.dk/begivenhed/paaskeferie
DTSTART;VALUE=DATE:20260330
DTEND;VALUE=DATE:20260407
LOCATION:Skarridsø Gruppe\, Stokkebjergvej 54\, 4450 Jyderup
END:VEVENT
BEGIN:VEVENT
UID:gruppeweb.dk:3404:event:730
DTSTAMP:20260424T132414Z
LAST-MODIFIED:20260211T180434Z
SUMMARY:Tænkedag
DESCRIPTION:\n
URL:https://www.jyderupspejderne.dk/begivenhed/taenkedag
DTSTART:20260222T100000Z
DTEND:20260222T130000Z
LOCATION:Skarridsø Gruppe\, Stokkebjergvej 54\, 4450 Jyderup
END:VEVENT
BEGIN:VEVENT
UID:gruppeweb.dk:3404:event:731
DTSTAMP:20260424T132414Z
LAST-MODIFIED:20260121T095858Z
SUMMARY:Sct. Hans
DESCRIPTION:\n
URL:https://www.jyderupspejderne.dk/begivenhed/sct-hans
DTSTART:20260623T150000Z
DTEND:20260623T170000Z
LOCATION:Skarridsø Gruppe\, Stokkebjergvej 54\, 4450 Jyderup
END:VEVENT
BEGIN:VEVENT
UID:gruppeweb.dk:3404:event:732
DTSTAMP:20260424T132414Z
LAST-MODIFIED:20260317T211138Z
SUMMARY:Sgt. Georgs dag - ALLE GRENE
DESCRIPTION:Vi mødes ved Sølyst og går samlet ud til Dronning Margrethes
  ruiner\n\n
URL:https://www.jyderupspejderne.dk/begivenhed/sgt-georgs-dag-alle-grene
DTSTART:20260422T150000Z
DTEND:20260422T170000Z
LOCATION:Sølyst\, Sølystvej 2\, 4450 Jyderup
END:VEVENT
BEGIN:VEVENT
UID:gruppeweb.dk:3404:event:763
DTSTAMP:20260424T132414Z
LAST-MODIFIED:20260215T190901Z
SUMMARY:Infomøde Spejdernes lejr 2026
DESCRIPTION:Infomøde omkring spejdernes lejr 2026.\n\nKom og hør lidt næ
 rmere. Nina og Per vil svare på alt hvad de kan.\n\nSe mere på: Spejder
 nes lejr - Skarridsø Gruppe [1]\n\n\n[1] https://www.jyderupspejderne.dk/
 sommerlejr-2026-sl26\n
URL:https://www.jyderupspejderne.dk/begivenhed/infomoede-spejdernes-lejr-20
 26
DTSTART:20260219T163000Z
DTEND:20260219T170000Z
LOCATION:Skarridsø Gruppe\, Stokkebjergvej 54\, 4450 Jyderup
END:VEVENT
BEGIN:VEVENT
UID:gruppeweb.dk:3404:event:795
DTSTAMP:20260424T132414Z
LAST-MODIFIED:20260317T211153Z
SUMMARY:Mørkøv Marked - Toiletter 2026
DESCRIPTION:\n
URL:https://www.jyderupspejderne.dk/begivenhed/moerkoev-marked-toiletter-20
 26
DTSTART;VALUE=DATE:20260925
DTEND;VALUE=DATE:20260928
LOCATION:Mørkøv Borgerforening\, Rævebjerg 1\, 4440 Mørkøv
END:VEVENT
BEGIN:VEVENT
UID:gruppeweb.dk:3404:event:798
DTSTAMP:20260424T132414Z
LAST-MODIFIED:20260412T210124Z
SUMMARY:Arbejdsdag - Alle
DESCRIPTION:Arbejdsdag på Spejdergården \nVi starter dagen ud med morgen
 mad fra kl. 9. \nKl. 10 deler vi os op på de forskellige opgaver. Vi har
  på forhånd lavet  \nen ønskeliste\, som vi vil fordele på dagen. Der 
 vil ved frokosttid blive  \ntid til lidt let frokost.\nEfter frokost forts
 ætter vi med opgaverne\, og når så langt vi kan. \nTil aften hygger vi
  med fælles aftensmad\, og hygge.\nHUSK man behøver ikke deltage hele da
 gen\, så man kan komme som det passer  \nind på lørdagen.\nSkulle man h
 ave en bil med trailer\, må man meget gerne byde ind på kørsel  \ntil g
 enbrugspladsen. Det vil også være en mulighed til efter  \narbejdsdagen.
  \nVi glæder os til at se jer.\n\n
URL:https://www.jyderupspejderne.dk/begivenhed/arbejdsdag-alle-2
DTSTART:20260502T070000Z
DTEND:20260502T170000Z
LOCATION:Skarridsø Gruppe\, Stokkebjergvej 54\, 4450 Jyderup
END:VEVENT
BEGIN:VEVENT
UID:gruppeweb.dk:3404:event:407
DTSTAMP:20260424T132414Z
LAST-MODIFIED:20250427T075411Z
SUMMARY:Familiespejd
DESCRIPTION:\n
URL:https://www.jyderupspejderne.dk/begivenhed/familiespejd-21
DTSTART:20250427T080000Z
DTEND:20250427T103000Z
LOCATION:Skarridsø Gruppe\, Stokkebjergvej 54\, 4450 Jyderup
END:VEVENT
BEGIN:VEVENT
UID:gruppeweb.dk:3404:event:410
DTSTAMP:20260424T132414Z
LAST-MODIFIED:20240811T203615Z
SUMMARY:Familiespejd - Overnatning
DESCRIPTION:Info kommer senere\n\n
URL:https://www.jyderupspejderne.dk/begivenhed/familiespejd-overnatning-0
DTSTART;VALUE=DATE:20250621
DTEND;VALUE=DATE:20250623
LOCATION:Skarridsø Gruppe\, Stokkebjergvej 54\, 4450 Jyderup
END:VEVENT
BEGIN:VEVENT
UID:gruppeweb.dk:3404:event:411
DTSTAMP:20260424T132414Z
LAST-MODIFIED:20240811T203620Z
SUMMARY:Familiespejd - Mors dags speciel
DESCRIPTION:\n
URL:https://www.jyderupspejderne.dk/begivenhed/familiespejd-mors-dags-speci
 el
DTSTART:20250511T080000Z
DTEND:20250511T103000Z
LOCATION:Skarridsø Gruppe\, Stokkebjergvej 54\, 4450 Jyderup
END:VEVENT
BEGIN:VEVENT
UID:gruppeweb.dk:3404:event:412
DTSTAMP:20260424T132414Z
LAST-MODIFIED:20240811T203620Z
SUMMARY:INGEN familiespejd grundet Pinse
DESCRIPTION:\n
URL:https://www.jyderupspejderne.dk/begivenhed/ingen-familiespejd-grundet-p
 inse
DTSTART;VALUE=DATE:20250608
LOCATION:Skarridsø Gruppe\, Stokkebjergvej 54\, 4450 Jyderup
END:VEVENT
BEGIN:VEVENT
UID:gruppeweb.dk:3404:event:521
DTSTAMP:20260424T132414Z
LAST-MODIFIED:20250402T175019Z
SUMMARY:Spejdernes Dag - Familie Spejd
DESCRIPTION:\n
URL:https://www.jyderupspejderne.dk/begivenhed/spejdernes-dag-familie-spejd
DTSTART:20250511T080000Z
DTEND:20250511T100000Z
LOCATION:Skarridsø Gruppe\, Stokkebjergvej 54\, 4450 Jyderup
END:VEVENT
BEGIN:VEVENT
UID:gruppeweb.dk:3404:event:565
DTSTAMP:20260424T132414Z
LAST-MODIFIED:20250805T175605Z
SUMMARY:Divisionstræf FS-Mikro-Mini
DESCRIPTION:Mere info følger\n\n
URL:https://www.jyderupspejderne.dk/begivenhed/divisionstraef-fs-mikro-mini
 -1
DTSTART;VALUE=DATE:20251003
DTEND;VALUE=DATE:20251006
LOCATION:
END:VEVENT
BEGIN:VEVENT
UID:gruppeweb.dk:3404:event:589
DTSTAMP:20260424T132414Z
LAST-MODIFIED:20250808T121108Z
SUMMARY:Juletur - Alle grene
DESCRIPTION:Juletur - Info følger\n\n
URL:https://www.jyderupspejderne.dk/begivenhed/juletur-alle-grene-1
DTSTART;VALUE=DATE:20251213
DTEND;VALUE=DATE:20251215
LOCATION:Skarridsø Gruppe\, Stokkebjergvej 54\, 4450 Jyderup
END:VEVENT
BEGIN:VEVENT
UID:gruppeweb.dk:3404:event:611
DTSTAMP:20260424T132414Z
LAST-MODIFIED:20250808T122829Z
SUMMARY:Familie Spejd - Møde
DESCRIPTION:\n
URL:https://www.jyderupspejderne.dk/begivenhed/familie-spejd-moede
DTSTART:20251109T090000Z
DTEND:20251109T113000Z
LOCATION:Skarridsø Gruppe\, Stokkebjergvej 54\, 4450 Jyderup
END:VEVENT
BEGIN:VEVENT
UID:gruppeweb.dk:3404:event:612
DTSTAMP:20260424T132414Z
LAST-MODIFIED:20250808T122833Z
SUMMARY:Familie Spejd - Møde
DESCRIPTION:\n
URL:https://www.jyderupspejderne.dk/begivenhed/familie-spejd-moede-0
DTSTART:20250921T080000Z
DTEND:20250921T103000Z
LOCATION:Skarridsø Gruppe\, Stokkebjergvej 54\, 4450 Jyderup
END:VEVENT
BEGIN:VEVENT
UID:gruppeweb.dk:3404:event:613
DTSTAMP:20260424T132414Z
LAST-MODIFIED:20250808T122834Z
SUMMARY:Familie Spejd - Møde
DESCRIPTION:\n
URL:https://www.jyderupspejderne.dk/begivenhed/familie-spejd-moede-1
DTSTART:20250824T080000Z
DTEND:20250824T103000Z
LOCATION:Skarridsø Gruppe\, Stokkebjergvej 54\, 4450 Jyderup
END:VEVENT
BEGIN:VEVENT
UID:gruppeweb.dk:3404:event:614
DTSTAMP:20260424T132414Z
LAST-MODIFIED:20250808T122835Z
SUMMARY:Familie Spejd - Møde
DESCRIPTION:\n
URL:https://www.jyderupspejderne.dk/begivenhed/familie-spejd-moede-2
DTSTART:20250907T080000Z
DTEND:20250907T103000Z
LOCATION:Skarridsø Gruppe\, Stokkebjergvej 54\, 4450 Jyderup
END:VEVENT
BEGIN:VEVENT
UID:gruppeweb.dk:3404:event:618
DTSTAMP:20260424T132414Z
LAST-MODIFIED:20250808T122839Z
SUMMARY:Familie Spejd - Møde
DESCRIPTION:\n
URL:https://www.jyderupspejderne.dk/begivenhed/familie-spejd-moede-3
DTSTART:20251026T090000Z
DTEND:20251026T113000Z
LOCATION:Skarridsø Gruppe\, Stokkebjergvej 54\, 4450 Jyderup
END:VEVENT
BEGIN:VEVENT
UID:gruppeweb.dk:3404:event:619
DTSTAMP:20260424T132414Z
LAST-MODIFIED:20250808T123718Z
SUMMARY:Familie Spejd - Møde
DESCRIPTION:\n
URL:https://www.jyderupspejderne.dk/begivenhed/familie-spejd-moede-4
DTSTART:20251207T090000Z
DTEND:20251207T113000Z
LOCATION:Skarridsø Gruppe\, Stokkebjergvej 54\, 4450 Jyderup
END:VEVENT
BEGIN:VEVENT
UID:gruppeweb.dk:3404:event:620
DTSTAMP:20260424T132414Z
LAST-MODIFIED:20250808T123719Z
SUMMARY:Familie Spejd - Møde
DESCRIPTION:\n
URL:https://www.jyderupspejderne.dk/begivenhed/familie-spejd-moede-5
DTSTART:20251123T090000Z
DTEND:20251123T113000Z
LOCATION:Skarridsø Gruppe\, Stokkebjergvej 54\, 4450 Jyderup
END:VEVENT
BEGIN:VEVENT
UID:gruppeweb.dk:3404:event:621
DTSTAMP:20260424T132414Z
LAST-MODIFIED:20250808T123720Z
SUMMARY:Familie Spejd - Møde
DESCRIPTION:\n
URL:https://www.jyderupspejderne.dk/begivenhed/familie-spejd-moede-6
DTSTART:20260125T090000Z
DTEND:20260125T113000Z
LOCATION:Skarridsø Gruppe\, Stokkebjergvej 54\, 4450 Jyderup
END:VEVENT
BEGIN:VEVENT
UID:gruppeweb.dk:3404:event:622
DTSTAMP:20260424T132414Z
LAST-MODIFIED:20250808T123721Z
SUMMARY:Familie Spejd - Møde
DESCRIPTION:\n
URL:https://www.jyderupspejderne.dk/begivenhed/familie-spejd-moede-7
DTSTART;VALUE=DATE:20260620
DTEND;VALUE=DATE:20260622
LOCATION:Skarridsø Gruppe\, Stokkebjergvej 54\, 4450 Jyderup
END:VEVENT
BEGIN:VEVENT
UID:gruppeweb.dk:3404:event:623
DTSTAMP:20260424T132414Z
LAST-MODIFIED:20250808T123721Z
SUMMARY:Familie Spejd - Møde
DESCRIPTION:\n
URL:https://www.jyderupspejderne.dk/begivenhed/familie-spejd-moede-8
DTSTART:20260607T080000Z
DTEND:20260607T103000Z
LOCATION:Skarridsø Gruppe\, Stokkebjergvej 54\, 4450 Jyderup
END:VEVENT
BEGIN:VEVENT
UID:gruppeweb.dk:3404:event:624
DTSTAMP:20260424T132414Z
LAST-MODIFIED:20250808T123722Z
SUMMARY:Familie Spejd - Møde
DESCRIPTION:\n
URL:https://www.jyderupspejderne.dk/begivenhed/familie-spejd-moede-9
DTSTART:20260322T090000Z
DTEND:20260322T113000Z
LOCATION:Skarridsø Gruppe\, Stokkebjergvej 54\, 4450 Jyderup
END:VEVENT
BEGIN:VEVENT
UID:gruppeweb.dk:3404:event:625
DTSTAMP:20260424T132414Z
LAST-MODIFIED:20250808T123724Z
SUMMARY:Familie Spejd - Møde
DESCRIPTION:\n
URL:https://www.jyderupspejderne.dk/begivenhed/familie-spejd-moede-10
DTSTART:20260222T090000Z
DTEND:20260222T113000Z
LOCATION:Skarridsø Gruppe\, Stokkebjergvej 54\, 4450 Jyderup
END:VEVENT
BEGIN:VEVENT
UID:gruppeweb.dk:3404:event:626
DTSTAMP:20260424T132414Z
LAST-MODIFIED:20250808T123724Z
SUMMARY:Familie Spejd - Møde
DESCRIPTION:\n
URL:https://www.jyderupspejderne.dk/begivenhed/familie-spejd-moede-11
DTSTART:20260419T080000Z
DTEND:20260419T103000Z
LOCATION:Skarridsø Gruppe\, Stokkebjergvej 54\, 4450 Jyderup
END:VEVENT
BEGIN:VEVENT
UID:gruppeweb.dk:3404:event:627
DTSTAMP:20260424T132414Z
LAST-MODIFIED:20250808T123726Z
SUMMARY:Familie Spejd - Møde
DESCRIPTION:\n
URL:https://www.jyderupspejderne.dk/begivenhed/familie-spejd-moede-12
DTSTART:20260503T080000Z
DTEND:20260503T103000Z
LOCATION:Skarridsø Gruppe\, Stokkebjergvej 54\, 4450 Jyderup
END:VEVENT
BEGIN:VEVENT
UID:gruppeweb.dk:3404:event:628
DTSTAMP:20260424T132414Z
LAST-MODIFIED:20250808T123727Z
SUMMARY:Familie Spejd - Møde
DESCRIPTION:\n
URL:https://www.jyderupspejderne.dk/begivenhed/familie-spejd-moede-13
DTSTART:20260111T090000Z
DTEND:20260111T113000Z
LOCATION:Skarridsø Gruppe\, Stokkebjergvej 54\, 4450 Jyderup
END:VEVENT
BEGIN:VEVENT
UID:gruppeweb.dk:3404:event:629
DTSTAMP:20260424T132414Z
LAST-MODIFIED:20250808T123728Z
SUMMARY:Familie Spejd - Møde
DESCRIPTION:\n
URL:https://www.jyderupspejderne.dk/begivenhed/familie-spejd-moede-14
DTSTART:20260308T090000Z
DTEND:20260308T113000Z
LOCATION:Skarridsø Gruppe\, Stokkebjergvej 54\, 4450 Jyderup
END:VEVENT
END:VCALENDAR
